BEGIN:VCALENDAR
VERSION:2.0
PRODID:-//Delft Sustainable Energy Association - ECPv6.8.3//NONSGML v1.0//EN
CALSCALE:GREGORIAN
METHOD:PUBLISH
X-WR-CALNAME:Delft Sustainable Energy Association
X-ORIGINAL-URL:https://delftsea.nl
X-WR-CALDESC:Events for Delft Sustainable Energy Association
REFRESH-INTERVAL;VALUE=DURATION:PT1H
X-Robots-Tag:noindex
X-PUBLISHED-TTL:PT1H
BEGIN:VTIMEZONE
TZID:Europe/Paris
BEGIN:DAYLIGHT
TZOFFSETFROM:+0100
TZOFFSETTO:+0200
TZNAME:CEST
DTSTART:20170326T010000
END:DAYLIGHT
BEGIN:STANDARD
TZOFFSETFROM:+0200
TZOFFSETTO:+0100
TZNAME:CET
DTSTART:20171029T010000
END:STANDARD
END:VTIMEZONE
BEGIN:VEVENT
DTSTART;TZID=Europe/Paris:20170922T090000
DTEND;TZID=Europe/Paris:20170922T170000
DTSTAMP:20260423T192656
CREATED:20180205T171603Z
LAST-MODIFIED:20180205T171654Z
UID:997-1506070800-1506099600@delftsea.nl
SUMMARY:City Tour Utrecht
DESCRIPTION:Hello everyone\, \nWe are very happy to announce that this will be the first event of the academic year\, which is a company visit + city tour.\nWe will visit Sustainer Homes\, this company designs and builds modular houses generating up to 90% less CO2 compared to a regular building. The project combines design\, living comfort and energy efficiency. On September 22nd\, we will go to Utrecht to see the prototype of this amazing project\, but that’s not all! \nAfterwards we will have a city tour around Utrecht\, which was ranked in the top 10 world’s unsung places according to Lonely Planet. \nSo\, how do I subscribe?\nThe places are very limited so register soon\, on September 11th at 16:00 we will start the registration process on this online sign-up form: \nhttps://goo.gl/forms/pnU65nbYZ7dzgpmC2 \nHow much does it cost?\nThe price it’s 10€/ticket. After completing the sign-up form you will get an email with further details. It can be paid via bank transfer or at ETV desk in EWI. \nWhat do I get for the ticket?\nYou get the train ticket (round-trip) to Utrecht\, lunch and entry fee to one activity in the city. \nWhat’s the schedule for the day?\n9:00 Meet on Delft Station\n10:30 Company visit + prototype\n12:30 Lunch\n13:30 City tour\n17:00 Going back to Delft \n*This event can only be attended by ETV/DelftSEA members
URL:https://delftsea.nl/event/city-tour-utrecht/
LOCATION:Utrecht\, Utrecht\, Netherlands
ATTACH;FMTTYPE=image/jpeg:https://delftsea.nl/wp-content/uploads/2018/02/Delft-SEA-utrecht-22-sept.jpg
END:VEVENT
END:VCALENDAR