BEGIN:VCALENDAR
VERSION:2.0
PRODID:-//Delft Sustainable Energy Association - ECPv6.8.3//NONSGML v1.0//EN
CALSCALE:GREGORIAN
METHOD:PUBLISH
X-WR-CALNAME:Delft Sustainable Energy Association
X-ORIGINAL-URL:https://delftsea.nl
X-WR-CALDESC:Events for Delft Sustainable Energy Association
REFRESH-INTERVAL;VALUE=DURATION:PT1H
X-Robots-Tag:noindex
X-PUBLISHED-TTL:PT1H
BEGIN:VTIMEZONE
TZID:Europe/Paris
BEGIN:DAYLIGHT
TZOFFSETFROM:+0100
TZOFFSETTO:+0200
TZNAME:CEST
DTSTART:20170326T010000
END:DAYLIGHT
BEGIN:STANDARD
TZOFFSETFROM:+0200
TZOFFSETTO:+0100
TZNAME:CET
DTSTART:20171029T010000
END:STANDARD
END:VTIMEZONE
BEGIN:VEVENT
DTSTART;TZID=Europe/Paris:20170927T180000
DTEND;TZID=Europe/Paris:20170927T200000
DTSTAMP:20260423T180532
CREATED:20180205T172043Z
LAST-MODIFIED:20180205T172043Z
UID:1002-1506535200-1506542400@delftsea.nl
SUMMARY:Trackx: profile choice SET
DESCRIPTION:Still confused about which track to follow in SET? DelftS.E.A. is bringing to you an informal meeting with students from each track!\nHere\, you will hear about each track from a student perspective\, and get a chance to ask your burning questions over drinks at the /Pub. \nEvent schedule:\n18:00-18:15 – Doors open and Welcome Speech\n18:15-18:45 – Track presentations\n18:45-18:50 – Presentation by Energy Club\n18:45-19:00 – Closing speech and free beer give-aways!\n19:10- 21:30- Bar and informal talks with our speakers! \nThe first 10 students who comment on the event wall which cluster they’re interested in taking get a FREE beer at the /pub!!!\n[Beers at the /Pub are at 1.10Eur. Only cash accepted.] \nWe hope to see you there! If you have any questions post them below!
URL:https://delftsea.nl/event/trackx-profile-choice-set/
LOCATION:Technical University of Delft\, Delft\, 2628 CD\, Netherlands
ATTACH;FMTTYPE=image/jpeg:https://delftsea.nl/wp-content/uploads/2018/02/Delft-SEA-Trackx-27-sept.jpg
END:VEVENT
END:VCALENDAR