BEGIN:VCALENDAR
VERSION:2.0
PRODID:-//Delft Sustainable Energy Association - ECPv6.8.3//NONSGML v1.0//EN
CALSCALE:GREGORIAN
METHOD:PUBLISH
X-WR-CALNAME:Delft Sustainable Energy Association
X-ORIGINAL-URL:https://delftsea.nl
X-WR-CALDESC:Events for Delft Sustainable Energy Association
REFRESH-INTERVAL;VALUE=DURATION:PT1H
X-Robots-Tag:noindex
X-PUBLISHED-TTL:PT1H
BEGIN:VTIMEZONE
TZID:Europe/Paris
BEGIN:DAYLIGHT
TZOFFSETFROM:+0100
TZOFFSETTO:+0200
TZNAME:CEST
DTSTART:20170326T010000
END:DAYLIGHT
BEGIN:STANDARD
TZOFFSETFROM:+0200
TZOFFSETTO:+0100
TZNAME:CET
DTSTART:20171029T010000
END:STANDARD
END:VTIMEZONE
BEGIN:VEVENT
DTSTART;TZID=Europe/Paris:20171017T180000
DTEND;TZID=Europe/Paris:20171017T210000
DTSTAMP:20260423T180535
CREATED:20180205T172418Z
LAST-MODIFIED:20180205T172707Z
UID:1005-1508263200-1508274000@delftsea.nl
SUMMARY:Lecture: Sustainable Energy in Developing Countries
DESCRIPTION:On 17th October DelftS.E.A\,. with the collaboration of The Energy Club\, will bring two very talented speakers who will talk about their experiences working on projects in developing countries. \nWe have Dwi Sassetyaningtyas\, who is about to graduate\, and who has worked on rural electricifcation of a small island in Indonensia called Sumba using PV. Also Rob de Jeu will talk about his work on integrating smart grids in villages in India\, and thus helping them gain access to electricity plus an additional income. \nThis was just a very brief introduction to some amazing work they did in Indonesia and India. You are welcome to hear them share their insights on their experiences conducting research in developing countries and perhaps you will gain some inspiration too!! \nAfterwards\, there will be networking drinks in /Pub (EWI) with various organisations\, professors and associations who are closely related to sustainability. This will give you a great chance to make some important connections. So do not miss it!
URL:https://delftsea.nl/event/lecture-sustainable-energy-in-developing-countries/
LOCATION:Technical University of Delft\, Delft\, 2628 CD\, Netherlands
ATTACH;FMTTYPE=image/jpeg:https://delftsea.nl/wp-content/uploads/2018/02/Delft-SEA-dev-country-lecture-17-oct.jpg
END:VEVENT
END:VCALENDAR