BEGIN:VCALENDAR
VERSION:2.0
PRODID:-//Delft Sustainable Energy Association - ECPv6.8.3//NONSGML v1.0//EN
CALSCALE:GREGORIAN
METHOD:PUBLISH
X-WR-CALNAME:Delft Sustainable Energy Association
X-ORIGINAL-URL:https://delftsea.nl
X-WR-CALDESC:Events for Delft Sustainable Energy Association
REFRESH-INTERVAL;VALUE=DURATION:PT1H
X-Robots-Tag:noindex
X-PUBLISHED-TTL:PT1H
BEGIN:VTIMEZONE
TZID:Europe/Paris
BEGIN:DAYLIGHT
TZOFFSETFROM:+0100
TZOFFSETTO:+0200
TZNAME:CEST
DTSTART:20170326T010000
END:DAYLIGHT
BEGIN:STANDARD
TZOFFSETFROM:+0200
TZOFFSETTO:+0100
TZNAME:CET
DTSTART:20171029T010000
END:STANDARD
END:VTIMEZONE
BEGIN:VEVENT
DTSTART;TZID=Europe/Paris:20171207T150000
DTEND;TZID=Europe/Paris:20171207T170000
DTSTAMP:20260423T144631
CREATED:20180206T130341Z
LAST-MODIFIED:20180206T130341Z
UID:1020-1512658800-1512666000@delftsea.nl
SUMMARY:Geothermal Energy Excursion
DESCRIPTION:Visit a real geothermal energy plant and see typical Dutch greenhouses! \nDelft S.E.A. is organizing an energy excursion to the Geothermal Energy plant in Poeldijk on Thursday the 7th of December from 14.00 – 17.30! \nThe geothermal energy plant\, called ‘Aardwarmtebedrijf’ Vogelaer’\, draws hot water from 2500m deep at 85 C which is used to provide heat to 7 greenhouses. The project can save 13.5 million M3 of natural gas and 24 kilotons of CO2 per year (equivalent to ~9000 households!). \nExcursion:\n15.00-16.00 Lecture on geothermal energy in Horti Business Center in Honselersdijk\n16.00-17.00 Tour at the geothermal energy plant in Poeldijk (3 km of Horti Business Center) \nTransport:\nArranged by Delft S.E.A.! Information will be send to the attendees. \nPrice:\nFREE!! Note: a deposit of 5 euro will be asked from you\, which will be refunded if you participated in the excursion :). \nPeople:\n10 spots \nPlease register on the Google form here: https://goo.gl/forms/csWNkeZTUS9JqNtP2 \nONLY ETV MEMBERS \nThe event is free\, however a deposit is required which will be refunded if you attended the event. \nOnce you registered on the google form\, please transfer an amount of 5 euros to the IBAN below (BEFORE DEC 3rd). \nETV – NL79ABNA0626297680
URL:https://delftsea.nl/event/geothermal-energy-excursion/
LOCATION:Technical University of Delft\, Delft\, 2628 CD\, Netherlands
ATTACH;FMTTYPE=image/png:https://delftsea.nl/wp-content/uploads/2017/11/poster-1.png
END:VEVENT
END:VCALENDAR