BEGIN:VCALENDAR
VERSION:2.0
PRODID:-//Delft Sustainable Energy Association - ECPv6.8.3//NONSGML v1.0//EN
CALSCALE:GREGORIAN
METHOD:PUBLISH
X-ORIGINAL-URL:https://delftsea.nl
X-WR-CALDESC:Events for Delft Sustainable Energy Association
REFRESH-INTERVAL;VALUE=DURATION:PT1H
X-Robots-Tag:noindex
X-PUBLISHED-TTL:PT1H
BEGIN:VTIMEZONE
TZID:Europe/Paris
BEGIN:DAYLIGHT
TZOFFSETFROM:+0100
TZOFFSETTO:+0200
TZNAME:CEST
DTSTART:20170326T010000
END:DAYLIGHT
BEGIN:STANDARD
TZOFFSETFROM:+0200
TZOFFSETTO:+0100
TZNAME:CET
DTSTART:20171029T010000
END:STANDARD
END:VTIMEZONE
BEGIN:VEVENT
DTSTART;TZID=Europe/Paris:20171214T190000
DTEND;TZID=Europe/Paris:20171214T230000
DTSTAMP:20260423T144734
CREATED:20180206T131252Z
LAST-MODIFIED:20180206T131252Z
UID:1023-1513278000-1513292400@delftsea.nl
SUMMARY:Christmas Potluck
DESCRIPTION:Dear SETies\, \nHolidays are coming soon and we would like to see you once more before Christmas break! So\, we bring to you the second edition of our traditional International Christmas Potluck! (aka Dinner)\nThe idea is very simple\, the entrance is free but you should bring a dish or drinks! As you all know SET is one of the most diverse programs at TU Delft with nearly 20 different nationalities and we would like to share food from all these amazing countries. \nIt will be free entrance\, however REGISTRATION IS MANDATORY:\nhttps://goo.gl/forms/0YRJ4LEjjTBjbtHr1 \nWe will ensure that there’s food for everyone considering veg/non veg and allergies so don’t worry about it and come enjoy with us een gezellige avond 😊 \nWear your warm clothes and see you soon!
URL:https://delftsea.nl/event/christmas-potluck/
LOCATION:Prof. Schemerhorn\, Professor Schermerhornstraat\, Delft\, Delft\, 2628 PZ\, Netherlands
ATTACH;FMTTYPE=image/png:https://delftsea.nl/wp-content/uploads/2017/08/Potluck-2.png
END:VEVENT
END:VCALENDAR