BEGIN:VCALENDAR
VERSION:2.0
PRODID:-//Delft Sustainable Energy Association - ECPv6.8.3//NONSGML v1.0//EN
CALSCALE:GREGORIAN
METHOD:PUBLISH
X-ORIGINAL-URL:https://delftsea.nl
X-WR-CALDESC:Events for Delft Sustainable Energy Association
REFRESH-INTERVAL;VALUE=DURATION:PT1H
X-Robots-Tag:noindex
X-PUBLISHED-TTL:PT1H
BEGIN:VTIMEZONE
TZID:Europe/Paris
BEGIN:DAYLIGHT
TZOFFSETFROM:+0100
TZOFFSETTO:+0200
TZNAME:CEST
DTSTART:20180325T010000
END:DAYLIGHT
BEGIN:STANDARD
TZOFFSETFROM:+0200
TZOFFSETTO:+0100
TZNAME:CET
DTSTART:20181028T010000
END:STANDARD
END:VTIMEZONE
BEGIN:VEVENT
DTSTART;TZID=Europe/Paris:20180202T190000
DTEND;TZID=Europe/Paris:20180202T230000
DTSTAMP:20260423T120229
CREATED:20180201T201825Z
LAST-MODIFIED:20180211T080930Z
UID:596-1517598000-1517612400@delftsea.nl
SUMMARY:Pubcrawl 2.0!
DESCRIPTION:Pubcrawl 2.0! \nIts here again! Delft S.E.A is bringing the end of quarter Pub Crawl on the 2nd of February. Drown the sorrows and increase the happiness of the after exams phase with some drinks and dancing! \nAll you have to do is either register yourself below\, or along with your friends (with maximum of 5 per group) if you want to be in the same team. \nProgram \nWe will meet at 19:00 at the Market Centre (just next to the townhall) and then proceed from there for the crawl. \nRegistration \nPlease register on the form below! [open until: 29th January (Monday)] \nHope to see you all there and have the best of times like we always do.:)
URL:https://delftsea.nl/event/pubcrawl-2-0/
LOCATION:Town Hall Delft\, Markt 87\, Delft\, 2611GW\, Netherlands
ATTACH;FMTTYPE=image/png:https://delftsea.nl/wp-content/uploads/2018/01/Pubcrwal-Q2-2018.png
END:VEVENT
END:VCALENDAR