BEGIN:VCALENDAR
VERSION:2.0
PRODID:-//Delft Sustainable Energy Association - ECPv6.8.3//NONSGML v1.0//EN
CALSCALE:GREGORIAN
METHOD:PUBLISH
X-WR-CALNAME:Delft Sustainable Energy Association
X-ORIGINAL-URL:https://delftsea.nl
X-WR-CALDESC:Events for Delft Sustainable Energy Association
REFRESH-INTERVAL;VALUE=DURATION:PT1H
X-Robots-Tag:noindex
X-PUBLISHED-TTL:PT1H
BEGIN:VTIMEZONE
TZID:Europe/Amsterdam
BEGIN:DAYLIGHT
TZOFFSETFROM:+0100
TZOFFSETTO:+0200
TZNAME:CEST
DTSTART:20200329T010000
END:DAYLIGHT
BEGIN:STANDARD
TZOFFSETFROM:+0200
TZOFFSETTO:+0100
TZNAME:CET
DTSTART:20201025T010000
END:STANDARD
END:VTIMEZONE
BEGIN:VEVENT
DTSTART;TZID=Europe/Amsterdam:20201211T124500
DTEND;TZID=Europe/Amsterdam:20201211T134500
DTSTAMP:20260423T120117
CREATED:20201207T092900Z
LAST-MODIFIED:20201207T092900Z
UID:3449-1607690700-1607694300@delftsea.nl
SUMMARY:Lunch Lecture
DESCRIPTION:Hey everyone\, this coming Friday\, 11th of Dec\, we will be hosting a lunch lecture where you would get to know about Sunrock\, the largest company in the Netherlands for roof-top solar PV installations.\nThe Director of Strategy and Innovation\, Jorg Regoort\, will be joining us to discuss about various innovative projects regarding storage solutions\, light-weight panels and much more\, in their vision which you can be a part of in the coming future. Also\, Tim Hacking\, current Jr. Project Manager and a former SET student will be sharing his journey and experience working in the Dutch renewable energy market. \nDate: 11th Dec (Friday)\nTime: 12:45-13:45\nVenue: Zoom Link (Will be shared later)\nRegistration Link: https://forms.gle/Zn2Fg17BPikVVyCr8 \nSave the date and join us for this insightful lecture\, all while you enjoy your lunch !🍴😃
URL:https://delftsea.nl/event/lunch-lecture/
LOCATION:online
ATTACH;FMTTYPE=image/png:https://delftsea.nl/wp-content/uploads/2020/12/LUNCH-LECTURE-2.png
END:VEVENT
END:VCALENDAR