BEGIN:VCALENDAR
VERSION:2.0
PRODID:-//Delft Sustainable Energy Association - ECPv6.8.3//NONSGML v1.0//EN
CALSCALE:GREGORIAN
METHOD:PUBLISH
X-WR-CALNAME:Delft Sustainable Energy Association
X-ORIGINAL-URL:https://delftsea.nl
X-WR-CALDESC:Events for Delft Sustainable Energy Association
REFRESH-INTERVAL;VALUE=DURATION:PT1H
X-Robots-Tag:noindex
X-PUBLISHED-TTL:PT1H
BEGIN:VTIMEZONE
TZID:Europe/Amsterdam
BEGIN:DAYLIGHT
TZOFFSETFROM:+0100
TZOFFSETTO:+0200
TZNAME:CEST
DTSTART:20210328T010000
END:DAYLIGHT
BEGIN:STANDARD
TZOFFSETFROM:+0200
TZOFFSETTO:+0100
TZNAME:CET
DTSTART:20211031T010000
END:STANDARD
END:VTIMEZONE
BEGIN:VEVENT
DTSTART;TZID=Europe/Amsterdam:20210512T100000
DTEND;TZID=Europe/Amsterdam:20210512T123000
DTSTAMP:20260423T180609
CREATED:20210502T091556Z
LAST-MODIFIED:20210502T091556Z
UID:3502-1620813600-1620822600@delftsea.nl
SUMMARY:Sunrock Case Study: Innovative solutions to compensate for low subsidies in rooftop projects
DESCRIPTION:Sunrock is the biggest rooftop solar project development company of the Netherlands. The primary focus of Sunrock is on large scale logistic buildings. With almost 150 MWp operational and + 1 GWp of SDE pipeline Sunrock is a substantial contributor to accelerating the energy transition. Due to congestion on the electrical grid and diminishing subsidies\, the development of large solar rooftop projects is becoming increasingly challenging. \nDuring our case study on the 12th of May the aim will be to use innovative solutions to both increase the sustainability of logistic buildings\, and to create a more profitable business case\, using the data from an actual Sunrock solar park. Can you come up with innovative ways to increase sustainability? The contributor of the best idea will be offered the chance to work on his/her idea during an actual internship at Sunrock. \nYou can register for this case study by filling in this form.
URL:https://delftsea.nl/event/sunrock-case-study-innovative-solutions-to-compensate-for-low-subsidies-in-rooftop-projects/
LOCATION:online
ATTACH;FMTTYPE=image/jpeg:https://delftsea.nl/wp-content/uploads/2021/05/SUNROCKcasestudy.jpg
END:VEVENT
END:VCALENDAR