BEGIN:VCALENDAR
VERSION:2.0
PRODID:-//Delft Sustainable Energy Association - ECPv6.8.3//NONSGML v1.0//EN
CALSCALE:GREGORIAN
METHOD:PUBLISH
X-WR-CALNAME:Delft Sustainable Energy Association
X-ORIGINAL-URL:https://delftsea.nl
X-WR-CALDESC:Events for Delft Sustainable Energy Association
REFRESH-INTERVAL;VALUE=DURATION:PT1H
X-Robots-Tag:noindex
X-PUBLISHED-TTL:PT1H
BEGIN:VTIMEZONE
TZID:Europe/Amsterdam
BEGIN:DAYLIGHT
TZOFFSETFROM:+0100
TZOFFSETTO:+0200
TZNAME:CEST
DTSTART:20230326T010000
END:DAYLIGHT
BEGIN:STANDARD
TZOFFSETFROM:+0200
TZOFFSETTO:+0100
TZNAME:CET
DTSTART:20231029T010000
END:STANDARD
END:VTIMEZONE
BEGIN:VEVENT
DTSTART;VALUE=DATE:20230630
DTEND;VALUE=DATE:20230701
DTSTAMP:20260420T153331
CREATED:20230524T102237Z
LAST-MODIFIED:20230524T102237Z
UID:3699-1688083200-1688169599@delftsea.nl
SUMMARY:Last day of the year!
DESCRIPTION:
URL:https://delftsea.nl/event/last-day-of-the-year/
END:VEVENT
BEGIN:VEVENT
DTSTART;TZID=Europe/Amsterdam:20230630T170000
DTEND;TZID=Europe/Amsterdam:20230630T220000
DTSTAMP:20260420T153331
CREATED:20230621T130414Z
LAST-MODIFIED:20230621T130414Z
UID:3764-1688144400-1688162400@delftsea.nl
SUMMARY:End of the year party!
DESCRIPTION:Hey SETTIES  \nAs the year is coming to a close soon DSEA is organizing an End of The Year party on 30th June(Friday) 5 pm onwards!  The event will be hosted in Delftse Hout. To celebrate your hard work throughout this year\, aperol spritz (or a non alcoholic drink) are on us. We will also have snacks to gorge upon. Let’s all join up one last time this academic year and make it a memorable day!\nKeep an eye out for the signup link.
URL:https://delftsea.nl/event/end-of-the-year-party/
LOCATION:Delftse Hout\, Korftlaan 5\, Delft\, \, 2616 LJ\, Netherlands
END:VEVENT
END:VCALENDAR