BEGIN:VCALENDAR
VERSION:2.0
PRODID:-//Delft Sustainable Energy Association - ECPv6.8.3//NONSGML v1.0//EN
CALSCALE:GREGORIAN
METHOD:PUBLISH
X-WR-CALNAME:Delft Sustainable Energy Association
X-ORIGINAL-URL:https://delftsea.nl
X-WR-CALDESC:Events for Delft Sustainable Energy Association
REFRESH-INTERVAL;VALUE=DURATION:PT1H
X-Robots-Tag:noindex
X-PUBLISHED-TTL:PT1H
BEGIN:VTIMEZONE
TZID:Europe/Amsterdam
BEGIN:DAYLIGHT
TZOFFSETFROM:+0100
TZOFFSETTO:+0200
TZNAME:CEST
DTSTART:20200329T010000
END:DAYLIGHT
BEGIN:STANDARD
TZOFFSETFROM:+0200
TZOFFSETTO:+0100
TZNAME:CET
DTSTART:20201025T010000
END:STANDARD
END:VTIMEZONE
BEGIN:VEVENT
DTSTART;TZID=Europe/Amsterdam:20200515T160000
DTEND;TZID=Europe/Amsterdam:20200515T183000
DTSTAMP:20260421T054332
CREATED:20200507T132539Z
LAST-MODIFIED:20200507T132630Z
UID:3354-1589558400-1589567400@delftsea.nl
SUMMARY:Sustainable Startups
DESCRIPTION:CURIOUS ABOUT ENTREPRENEURSHIP? Interested in finding an internship/MSc thesis?\nYou definitely don’t want to miss this event then! \nHey everyone\, as promised we’re back with our first event. Although\, we were planning a visit to YES!Delft but given the current circumstances\, we are planning an online introduction to the startups incubator together with some sustainable startups presentations which began there.  You can find out what they’re up to\, see how you can work for them or even think about starting your own. \nDate: 15th May\, 2020\nTime: 16:00 – 18:30\nVenue: In this case\, the ZOOM link will be sent to you \nEvent schedule:\n16:00-16:05–> Introduction to Delft SEA and YES!Delft\n16:05-16:20 –> YES!Delft Incubation Program\n16:20-17:35 –> Sustainable Startup Presentations\n17:35-17:50 –> Break\n17:50-18:30 –> Interactive session with the Startups in respective breakout rooms \nPlease do not forget to sign up here !  (Deadline: 14th May at 18.:00). \nHope to see you all there!
URL:https://delftsea.nl/event/sustainable-startups-2/
LOCATION:online
ATTACH;FMTTYPE=image/png:https://delftsea.nl/wp-content/uploads/2020/05/SUSTAINABLE-STARTUP-EVENT-F.png
END:VEVENT
BEGIN:VEVENT
DTSTART;TZID=Europe/Amsterdam:20200527T150000
DTEND;TZID=Europe/Amsterdam:20200527T160000
DTSTAMP:20260421T054332
CREATED:20200520T151916Z
LAST-MODIFIED:20200520T152128Z
UID:3364-1590591600-1590595200@delftsea.nl
SUMMARY:SET PANELS
DESCRIPTION:We talk a lot about Energy Transition and renewable energies. In the forthcoming years\, we will see significant shifts that will shape our day to day life. \n Join us for this webinar\, and learn Why Our Renewable Future Might Look Different From What You Imagine\, presented by Simon Göß\, Engineer in Sustainable Energy Technologies. \n As a certified trainer\, Simon has conducted seminars for energy exchange traders in consultation with the European Energy Exchange (EEX AG). He is also conducting consultancy projects and composing scientific articles on the energy sector\, energy market design\, the economics of innovative business models in the energy transition and price effects on European and international energy markets. Furthermore he is part of a small wind turbine collective and currently co-leader of the infrastructure domain of Suderbyn Permaculture Ecovillage (http://www.suderbyn.se/). \n You can find his latest articles here: https://blog.energybrainpool.com/en/author/simon-goess/ \nDate: May 27\, 2020 \nTime:  15:00-16:00 \nVenue: In this case\, the ZOOM link will be sent to you \nPlease do not forget to register at this link: http://tiny.cc/hwrbpz \n 
URL:https://delftsea.nl/event/set-panels/
LOCATION:online
ATTACH;FMTTYPE=image/jpeg:https://delftsea.nl/wp-content/uploads/2020/05/WhatsApp-Image-2020-05-18-at-9.52.14-PM.jpeg
END:VEVENT
END:VCALENDAR