BEGIN:VCALENDAR
VERSION:2.0
PRODID:-//Delft Sustainable Energy Association - ECPv6.8.3//NONSGML v1.0//EN
CALSCALE:GREGORIAN
METHOD:PUBLISH
X-ORIGINAL-URL:https://delftsea.nl
X-WR-CALDESC:Events for Delft Sustainable Energy Association
REFRESH-INTERVAL;VALUE=DURATION:PT1H
X-Robots-Tag:noindex
X-PUBLISHED-TTL:PT1H
BEGIN:VTIMEZONE
TZID:Europe/Amsterdam
BEGIN:DAYLIGHT
TZOFFSETFROM:+0100
TZOFFSETTO:+0200
TZNAME:CEST
DTSTART:20210328T010000
END:DAYLIGHT
BEGIN:STANDARD
TZOFFSETFROM:+0200
TZOFFSETTO:+0100
TZNAME:CET
DTSTART:20211031T010000
END:STANDARD
END:VTIMEZONE
BEGIN:VEVENT
DTSTART;TZID=Europe/Amsterdam:20210211T130000
DTEND;TZID=Europe/Amsterdam:20210211T140000
DTSTAMP:20260423T132531
CREATED:20210208T151823Z
LAST-MODIFIED:20210208T151823Z
UID:3483-1613048400-1613052000@delftsea.nl
SUMMARY:CLASP Webinar
DESCRIPTION:Delft Sustainable Energy Association (DSEA) in collaboration with CLASP is organizing a webinar on “Global Outlook on Energy Efficiency and Clean energy access”. This webinar will focus on the importance of energy efficiency\, the EU energy labeling program\, EU Ecolabel program\, and clean energy access programs managed by CLASP. You can register for the event by clicking here.\n \n\n\n\nDate- 11th February 2021\, Thursday\nTime – 13:00 to 14:00 hrs
URL:https://delftsea.nl/event/clasp-webinar/
LOCATION:online
ATTACH;FMTTYPE=image/jpeg:https://delftsea.nl/wp-content/uploads/2021/02/Clsp.jpg
END:VEVENT
END:VCALENDAR