BEGIN:VCALENDAR
VERSION:2.0
PRODID:-//Delft Sustainable Energy Association - ECPv6.8.3//NONSGML v1.0//EN
CALSCALE:GREGORIAN
METHOD:PUBLISH
X-ORIGINAL-URL:https://delftsea.nl
X-WR-CALDESC:Events for Delft Sustainable Energy Association
REFRESH-INTERVAL;VALUE=DURATION:PT1H
X-Robots-Tag:noindex
X-PUBLISHED-TTL:PT1H
BEGIN:VTIMEZONE
TZID:Europe/Amsterdam
BEGIN:DAYLIGHT
TZOFFSETFROM:+0100
TZOFFSETTO:+0200
TZNAME:CEST
DTSTART:20210328T010000
END:DAYLIGHT
BEGIN:STANDARD
TZOFFSETFROM:+0200
TZOFFSETTO:+0100
TZNAME:CET
DTSTART:20211031T010000
END:STANDARD
END:VTIMEZONE
BEGIN:VEVENT
DTSTART;TZID=Europe/Amsterdam:20211115T093000
DTEND;TZID=Europe/Amsterdam:20211119T193000
DTSTAMP:20260423T205648
CREATED:20211025T143221Z
LAST-MODIFIED:20211123T092855Z
UID:3551-1636968600-1637350200@delftsea.nl
SUMMARY:The First Lustrum of Delft Sustainable Energy Association
DESCRIPTION:In a few weeks\, it is finally starting: the DelftSEA Lustrum week! During the week of the 15th of November\, a bunch of activities will be organized for students from SET\, but also for any other student interested in the sustainable energy field! \nFirst up\, the Sustainability Symposium. This activity will take place on Monday the 15th of November at the Green Village of the TU Delft. For 10 euros\, you can come by to see presentations of the Oceans of Energy CEO Brigitte Vlaswinkel\, and former Ted-X speaker Annick Schmeddes from Sustainable Talent. Furthermore\, a variety of student teams and startup companies will be present to talk about state-of-the-art sustainable innovations that are currently developed at the TU Delft. A lunch is included as well! \nOn the Wednesday the 17th\, a Pub crawl is planned. For only 8 euros you can join a tour along all the nice pubs Delft has to offer\, including two drinks! \nThe final activity of our Lustrum week is the Career Café networking event on Friday the 19th. The costs of this activity is also 10 euros. Get in touch with alumni\, professors and companies in the field of sustainable energy! Explore the possibilities the academic and corporate world have to offer to anyone specialized and interested in the energy sector. Have a look at the multiple stands\, and meet new people from within the whole sector during the speed dating event! \nFor members of DelftSEA\, a ticket for the three activities together can be bought for only 20 euros. \nYou can buy tickets for all activities via this link! \nWe hope to see you soon during our Lustrum!\nLustrum Committee and Board of DelftSEA \n 
URL:https://delftsea.nl/event/the-first-lustrum-of-delft-sustainable-energy-association/
ATTACH;FMTTYPE=image/png:https://delftsea.nl/wp-content/uploads/2021/10/november-15-19-2021-1.png
END:VEVENT
BEGIN:VEVENT
DTSTART;TZID=Europe/Amsterdam:20211124T130000
DTEND;TZID=Europe/Amsterdam:20211124T170000
DTSTAMP:20260423T205648
CREATED:20211123T091943Z
LAST-MODIFIED:20211123T092835Z
UID:3568-1637758800-1637773200@delftsea.nl
SUMMARY:Energy Startup Workshop
DESCRIPTION:On the 24th of November from 1 PM to 5 PM\, the TU Delft Energy Club will host the ‘Energy Startup Workshop’ with Cleantech Challenge | The Netherlands\, Energy Investment Management BV and Delft SEA. The event will be moderated by Leon Pulles and Denisa Kasa from the company Energy Investment Management BV\, and will take place at the Co-Creation Centre at the Green Village of TU Delft. \nThe event is open for TU Delft and Erasmus University Rotterdam students\, recent graduates and PhD researchers. You would get the opportunity to work on your own energy innovation\, set up a business or just generally learn more about startups in the energy sector! \nYou can sign up via this link!
URL:https://delftsea.nl/event/energy-startup-workshop/
LOCATION:The Green Village\, Van Den Broekweg 4\, Delft\, 2628 CR\, Netherlands
ATTACH;FMTTYPE=image/jpeg:https://delftsea.nl/wp-content/uploads/2021/11/1637265555581.jpg
END:VEVENT
END:VCALENDAR