BEGIN:VCALENDAR
VERSION:2.0
PRODID:-//Delft Sustainable Energy Association - ECPv6.8.3//NONSGML v1.0//EN
CALSCALE:GREGORIAN
METHOD:PUBLISH
X-ORIGINAL-URL:https://delftsea.nl
X-WR-CALDESC:Events for Delft Sustainable Energy Association
REFRESH-INTERVAL;VALUE=DURATION:PT1H
X-Robots-Tag:noindex
X-PUBLISHED-TTL:PT1H
BEGIN:VTIMEZONE
TZID:Europe/Amsterdam
BEGIN:DAYLIGHT
TZOFFSETFROM:+0100
TZOFFSETTO:+0200
TZNAME:CEST
DTSTART:20210328T010000
END:DAYLIGHT
BEGIN:STANDARD
TZOFFSETFROM:+0200
TZOFFSETTO:+0100
TZNAME:CET
DTSTART:20211031T010000
END:STANDARD
END:VTIMEZONE
BEGIN:VEVENT
DTSTART;TZID=Europe/Amsterdam:20211209T190000
DTEND;TZID=Europe/Amsterdam:20211209T190000
DTSTAMP:20260423T221807
CREATED:20211123T092520Z
LAST-MODIFIED:20211123T092804Z
UID:3573-1639076400-1639076400@delftsea.nl
SUMMARY:Christmas Party
DESCRIPTION:Delft SEA Christmas party is planned to take place on the 9th of December!! However\, as the Covid regulations for that date are still unknown the registration link will be released only after the 3rd of December. So save the date and stay tuned!
URL:https://delftsea.nl/event/christmas-party/
LOCATION:Prof. Schermerhornstraat 4\, Delft\, Netherlands
ATTACH;FMTTYPE=image/jpeg:https://delftsea.nl/wp-content/uploads/2021/11/WhatsApp-Image-2021-11-19-at-09.54.27.jpeg
END:VEVENT
END:VCALENDAR