BEGIN:VCALENDAR
VERSION:2.0
PRODID:-//Delft Sustainable Energy Association - ECPv6.8.3//NONSGML v1.0//EN
CALSCALE:GREGORIAN
METHOD:PUBLISH
X-ORIGINAL-URL:https://delftsea.nl
X-WR-CALDESC:Events for Delft Sustainable Energy Association
REFRESH-INTERVAL;VALUE=DURATION:PT1H
X-Robots-Tag:noindex
X-PUBLISHED-TTL:PT1H
BEGIN:VTIMEZONE
TZID:Europe/Amsterdam
BEGIN:DAYLIGHT
TZOFFSETFROM:+0100
TZOFFSETTO:+0200
TZNAME:CEST
DTSTART:20220327T010000
END:DAYLIGHT
BEGIN:STANDARD
TZOFFSETFROM:+0200
TZOFFSETTO:+0100
TZNAME:CET
DTSTART:20221030T010000
END:STANDARD
END:VTIMEZONE
BEGIN:VEVENT
DTSTART;TZID=Europe/Amsterdam:20220215T123000
DTEND;TZID=Europe/Amsterdam:20220215T180000
DTSTAMP:20260424T003404
CREATED:20220127T204404Z
LAST-MODIFIED:20220127T204404Z
UID:3621-1644928200-1644948000@delftsea.nl
SUMMARY:In-house day at Fakton Energy
DESCRIPTION:Are you:\n\n \n\n 	A Dutch speaking SET student?\n 	Interested in a personal meeting with consultants active in the energy sector?\n 	Curious about the working environment within a consulting company?\nThen don’t stop reading!\n\n \n\nEnergy consultant Fakton Energy organizes an in-house day at their office in the WTC in Rotterdam including a case study\, office tour and rooftop drinks! The in-house day is free to join for any SET student!\n\n \n\n\n\nAs the number of spots is limited\, your CV is requested for registration. When the sign-up limit is reached\, Fakton will select the students who will be invited. So make sure your CV is updated and you register in time by following this link!\n\n\n\n \n\nWould you like to know more about Fakton Energy? Make sure to check out their website here!
URL:https://delftsea.nl/event/in-house-day-at-fakton-energy/
LOCATION:WTC Rotterdam\, Beursplein 37\, Rotterdam\, Netherlands
ATTACH;FMTTYPE=image/jpeg:https://delftsea.nl/wp-content/uploads/2022/01/WhatsApp-Image-2022-01-26-at-22.50.35.jpeg
END:VEVENT
END:VCALENDAR