BEGIN:VCALENDAR
VERSION:2.0
PRODID:-//Delft Sustainable Energy Association - ECPv6.8.3//NONSGML v1.0//EN
CALSCALE:GREGORIAN
METHOD:PUBLISH
X-WR-CALNAME:Delft Sustainable Energy Association
X-ORIGINAL-URL:https://delftsea.nl
X-WR-CALDESC:Events for Delft Sustainable Energy Association
REFRESH-INTERVAL;VALUE=DURATION:PT1H
X-Robots-Tag:noindex
X-PUBLISHED-TTL:PT1H
BEGIN:VTIMEZONE
TZID:Europe/Amsterdam
BEGIN:DAYLIGHT
TZOFFSETFROM:+0100
TZOFFSETTO:+0200
TZNAME:CEST
DTSTART:20230326T010000
END:DAYLIGHT
BEGIN:STANDARD
TZOFFSETFROM:+0200
TZOFFSETTO:+0100
TZNAME:CET
DTSTART:20231029T010000
END:STANDARD
END:VTIMEZONE
BEGIN:VEVENT
DTSTART;TZID=Europe/Amsterdam:20230509T090000
DTEND;TZID=Europe/Amsterdam:20230509T170000
DTSTAMP:20260420T165010
CREATED:20230524T101355Z
LAST-MODIFIED:20230524T101355Z
UID:3695-1683622800-1683651600@delftsea.nl
SUMMARY:All Energy Day
DESCRIPTION:
URL:https://delftsea.nl/event/all-energy-day/
LOCATION:The Hague
END:VEVENT
BEGIN:VEVENT
DTSTART;TZID=Europe/Amsterdam:20230513T140000
DTEND;TZID=Europe/Amsterdam:20230513T180000
DTSTAMP:20260420T165010
CREATED:20230511T102502Z
LAST-MODIFIED:20230511T102502Z
UID:3679-1683986400-1684000800@delftsea.nl
SUMMARY:Beach Day
DESCRIPTION:Time to get your beach attire out as DSEA is organizing The Beach Day on 13 May 2023(Saturday). We are planning to cycle to the beach in groups of 4/5 . Whoever cannot make it there on cycles can join by tram. For the people cycling we are gonna stop every 30 mins or so to take a break\, chill and grab a beer (or your choice of non alcoholic drink)!. Snacks and drinks will be provided during the day! At the beach we will be hosting all of your favorite games and activities which would ensure you to have a stress free day away from your assignments and projects. \nBike Ride:\nDate & time: Saturday 13th May\, 2023\, 14:00\nStart Location: Delft Station\nEnd Location: Scheveningen Beach
URL:https://delftsea.nl/event/beach-day/
END:VEVENT
BEGIN:VEVENT
DTSTART;TZID=Europe/Amsterdam:20230516T123000
DTEND;TZID=Europe/Amsterdam:20230516T133000
DTSTAMP:20260420T165010
CREATED:20230511T103220Z
LAST-MODIFIED:20230511T103339Z
UID:3684-1684240200-1684243800@delftsea.nl
SUMMARY:Hinicio Lunch Lecture
DESCRIPTION:Hinicio lunch lecture organised by DelftSEA takes place in Lecture Hall Chip in EWI on Tuesday 16th of May at 12:45. \nWhat does Hinicio do?\nHinicio is a leading consulting company in the field of hydrogen and fuel cells industry in Europe and the Americas.  Being one of the oldest hydrogen companies in the world\, Hinicio advise a wide range of organizations\, including energy utilities\,  companies\, equipment manufacturers\, chemical companies\, startups and large energy consumers\, on strategic business decisions\, using deep hydrogen industry expertise combined with highly qualified managerial competencies to deliver actionable and lasting results. \nWhat’s the lecture about?\nDiscover the role of hydrogen in the energy transition in real-world applications. Learn how hydrogen is being used as a viable alternative to traditional fossil fuels in industries such as transportation and energy production. Explore the market trends\, policies\, and technologies that are driving its adoption\, and gain insight into the latest advances in hydrogen production\, storage\, and transportation. \nIs lunch provided?\nOf course! In case you miss out the event\, please notify us so we make sure no food is wasted!
URL:https://delftsea.nl/event/3684/
LOCATION:Lecture Hall Chip in EWI
END:VEVENT
END:VCALENDAR