BEGIN:VCALENDAR
VERSION:2.0
PRODID:-//Delft Sustainable Energy Association - ECPv6.8.3//NONSGML v1.0//EN
CALSCALE:GREGORIAN
METHOD:PUBLISH
X-WR-CALNAME:Delft Sustainable Energy Association
X-ORIGINAL-URL:https://delftsea.nl
X-WR-CALDESC:Events for Delft Sustainable Energy Association
REFRESH-INTERVAL;VALUE=DURATION:PT1H
X-Robots-Tag:noindex
X-PUBLISHED-TTL:PT1H
BEGIN:VTIMEZONE
TZID:Europe/Amsterdam
BEGIN:DAYLIGHT
TZOFFSETFROM:+0100
TZOFFSETTO:+0200
TZNAME:CEST
DTSTART:20230326T010000
END:DAYLIGHT
BEGIN:STANDARD
TZOFFSETFROM:+0200
TZOFFSETTO:+0100
TZNAME:CET
DTSTART:20231029T010000
END:STANDARD
END:VTIMEZONE
BEGIN:VEVENT
DTSTART;VALUE=DATE:20230901
DTEND;VALUE=DATE:20230902
DTSTAMP:20260420T112936
CREATED:20230524T102402Z
LAST-MODIFIED:20230524T102402Z
UID:3702-1693526400-1693612799@delftsea.nl
SUMMARY:Master your start
DESCRIPTION:The first day of the year to welcome all incoming SET students.
URL:https://delftsea.nl/event/master-your-start/
END:VEVENT
BEGIN:VEVENT
DTSTART;TZID=Europe/Amsterdam:20230906T170000
DTEND;TZID=Europe/Amsterdam:20230906T220000
DTSTAMP:20260420T112936
CREATED:20230621T131053Z
LAST-MODIFIED:20230716T203659Z
UID:3766-1694019600-1694037600@delftsea.nl
SUMMARY:Beginning of the year barbecue
DESCRIPTION:More info to come\, but save the date!
URL:https://delftsea.nl/event/beginning-of-the-year-barbecue/
END:VEVENT
BEGIN:VEVENT
DTSTART;TZID=Europe/Amsterdam:20230913T140000
DTEND;TZID=Europe/Amsterdam:20230913T180000
DTSTAMP:20260420T112936
CREATED:20230809T231321Z
LAST-MODIFIED:20230809T231321Z
UID:3794-1694613600-1694628000@delftsea.nl
SUMMARY:Career Event
DESCRIPTION:Wondering what you can do with a sustainable energy and technology degree? How are companies tackling the energy transition? And how can you get in touch with these companies? Come join our career event to find out! \nSix companies from the different SET tracks will be joining us. They will each give a presentation and then you will get the opportunity to talk to them in a more informal setting with snacks and some drinks.  \nThe attending companies will be announced later\, so keep an eye on our Instagram!
URL:https://delftsea.nl/event/career-event/
LOCATION:The Green Village\, Van Den Broekweg 4\, Delft\, 2628 CR\, Netherlands
END:VEVENT
END:VCALENDAR